BEGIN:VCALENDAR
VERSION:2.0
PRODID:-//ChamberMaster//Event Calendar 2.0//EN
METHOD:PUBLISH
X-PUBLISHED-TTL:P3D
REFRESH-INTERVAL:P3D
CALSCALE:GREGORIAN
BEGIN:VEVENT
DTSTART:20260509T230000Z
DTEND:20260510T010000Z
X-MICROSOFT-CDO-ALLDAYEVENT:FALSE
SUMMARY:BINGO at Holy Trinity Catholic School
DESCRIPTION:BINGO!\n\nPrizes \n\nSponsored by Avon - Wendy Ravencroft Walmart and Mack Metal\n\nConcessions available
X-ALT-DESC;FMTTYPE=text/html:BINGO!<br />\nPrizes&nbsp\;<br />\nSponsored by Avon - Wendy Ravencroft Walmart and Mack Metal<br />\nConcessions available
LOCATION:Holy Trinity Catholic School Multipurpose Room 425 21st SW Huron\, SD 57350
UID:e.668.43495
SEQUENCE:3
DTSTAMP:20260423T212002Z
URL:http://chamber.huronsd.com/events/details/bingo-at-holy-trinity-catholic-school-43495
END:VEVENT

END:VCALENDAR
