BEGIN:VCALENDAR
VERSION:2.0
PRODID:-//ChamberMaster//Event Calendar 2.0//EN
METHOD:PUBLISH
X-PUBLISHED-TTL:P3D
REFRESH-INTERVAL:P3D
CALSCALE:GREGORIAN
BEGIN:VEVENT
DTSTART;VALUE=DATE:20260513
DTEND;VALUE=DATE:20260514
TRANSP:TRANSPARENT
X-MICROSOFT-CDO-ALLDAYEVENT:TRUE
SUMMARY:Day of Hope
DESCRIPTION:Day of Hope. \n\nA day dedicated to unity\, compassion and action to break the stigma surrounding mental health.
X-ALT-DESC;FMTTYPE=text/html:Day of Hope.&nbsp\;<br />\nA day dedicated to unity\, compassion and action to break the stigma surrounding mental health.&nbsp\;<br />\n&nbsp\;
LOCATION:
UID:e.668.43494
SEQUENCE:3
DTSTAMP:20260423T193707Z
URL:http://chamber.huronsd.com/events/details/day-of-hope-43494
END:VEVENT

END:VCALENDAR
