BEGIN:VCALENDAR
VERSION:2.0
PRODID:-//ChamberMaster//Event Calendar 2.0//EN
METHOD:PUBLISH
X-PUBLISHED-TTL:P3D
REFRESH-INTERVAL:P3D
CALSCALE:GREGORIAN
BEGIN:VEVENT
DTSTART:20260425T150000Z
DTEND:20260425T190000Z
X-MICROSOFT-CDO-ALLDAYEVENT:FALSE
SUMMARY:Huron Farmer's Market Spring Market
DESCRIPTION:Huron Farmer's Market Spring Market!\n\nBakes goods\, fresh produce\, handmade crafts & more!
X-ALT-DESC;FMTTYPE=text/html:Huron Farmer&#39\;s Market Spring Market!<br />\nBakes goods\, fresh produce\, handmade crafts &amp\; more!
LOCATION:Downtown Huron- Centra Plaza 289 Dakota Ave S Huron\, SD
UID:e.668.43492
SEQUENCE:3
DTSTAMP:20260423T095248Z
URL:http://chamber.huronsd.com/events/details/huron-farmer-s-market-spring-market-43492
END:VEVENT

END:VCALENDAR
