BEGIN:VCALENDAR
VERSION:2.0
PRODID:-//ChamberMaster//Event Calendar 2.0//EN
METHOD:PUBLISH
X-PUBLISHED-TTL:P3D
REFRESH-INTERVAL:P3D
CALSCALE:GREGORIAN
BEGIN:VEVENT
DTSTART:20260512T223000Z
DTEND:20260513T003000Z
X-MICROSOFT-CDO-ALLDAYEVENT:FALSE
SUMMARY:Suicide Prevention and Awareness Event
DESCRIPTION:Suicide Prevention and Awareness Event\n\nCost is Free\,\n\nOpen to the Community \n\nDue to sensitive content\, Middle School and Highschool Students are welcome to attend with a parent or guardian\n\nMy Ascension showing with Lisa Larson from Rooted 23
X-ALT-DESC;FMTTYPE=text/html:Suicide Prevention and Awareness Event<br />\nCost is Free\,<br />\nOpen to the Community&nbsp\;<br />\nDue to sensitive content\, Middle School and Highschool Students are welcome to attend with a parent or guardian<br />\nMy Ascension showing with Lisa Larson from Rooted 23
LOCATION:Huron High School Auditorium
UID:e.668.43493
SEQUENCE:3
DTSTAMP:20260423T193707Z
URL:http://chamber.huronsd.com/events/details/suicide-prevention-and-awareness-event-43493
END:VEVENT

END:VCALENDAR
